BEGIN:VCALENDAR
PRODID: -//CFLIB.ORG//iCalUS()//EN
VERSION:2.0
METHOD:REQUEST
BEGIN:VTIMEZONE
BEGIN:STANDARD
DTSTART:20061101T020000
RRULE:FREQ=YEARLY;INTERVAL=1;BYDAY=1SU;BYMONTH=11
TZOFFSETFROM:-0400
TZOFFSETTO:-0500
TZNAME:Standard Time
END:STANDARD
BEGIN:DAYLIGHT
DTSTART:20060301T020000
RRULE:FREQ=YEARLY;INTERVAL=1;BYDAY=2SU;BYMONTH=3
TZOFFSETFROM:-0500
TZOFFSETTO:-0400
TZNAME:Daylight Savings Time
END:DAYLIGHT
END:VTIMEZONE
BEGIN:VEVENT
UID:1583051334933.CFLIB.ORG
ORGANIZER;CN=:MAILTO:
DTSTAMP:20200301T192854
DTSTART;TZID=Eastern Time:20200307T110000
DTEND;TZID=Eastern Time:20200307T120000
SUMMARY:COMMUNITY FIRST REAL ESTATE - PROPERTY AUCTION - 91 Reservoir Road, Mount Pritchard, 2170
LOCATION:91 Reservoir Road, Mount Pritchard, 2170
DESCRIPTION:PROPERTY AUCTION: 91 Reservoir Road, Mount Pritchard, 2170\n\n\nAUCTION DATE: 7 March 2020 - 11:00AM\nAUCTION LOCATION: 91 Reservoir Road, Mount Pritchard, 2170\n\n\nClick the link for full listing information: http://www.communityfirstrealestate.com.au?/property/3389733
PRIORITY:1
TRANSP:OPAQUE
CLASS:PUBLIC
BEGIN:VALARM
TRIGGER:-PT30M
ACTION:DISPLAY
DESCRIPTION:Reminder
END:VALARM
END:VEVENT
END:VCALENDAR 